BEGIN:VCALENDAR
VERSION:2.0
PRODID:-//Rotary Club of Medina - ECPv6.15.18//NONSGML v1.0//EN
CALSCALE:GREGORIAN
METHOD:PUBLISH
X-ORIGINAL-URL:https://www.medinarotary.org
X-WR-CALDESC:Events for Rotary Club of Medina
REFRESH-INTERVAL;VALUE=DURATION:PT1H
X-Robots-Tag:noindex
X-PUBLISHED-TTL:PT1H
BEGIN:VTIMEZONE
TZID:UTC
BEGIN:STANDARD
TZOFFSETFROM:+0000
TZOFFSETTO:+0000
TZNAME:UTC
DTSTART:20200101T000000
END:STANDARD
END:VTIMEZONE
BEGIN:VEVENT
DTSTART;TZID=UTC:20210424T073000
DTEND;TZID=UTC:20210424T093000
DTSTAMP:20260420T121533
CREATED:20210312T011852Z
LAST-MODIFIED:20210312T012744Z
UID:1066-1619249400-1619256600@www.medinarotary.org
SUMMARY:Canal Cleanup
DESCRIPTION:We are going to do the Canal cleanup on 4/24 at 7:30 AM and will clean up from Marshall Road Bridge to Fruit Ave.
URL:https://www.medinarotary.org/event/canal-cleanup/
LOCATION:Marshal Road Bridge\, Marshal Rd.\, Medina\, NY\, 14103\, United States
CATEGORIES:Community Project
ATTACH;FMTTYPE=image/png:https://www.medinarotary.org/wp-content/uploads/2021/02/favicon.png
ORGANIZER;CN="Rotary Club of Medina":MAILTO:medinanyrotary@gmail.com
END:VEVENT
END:VCALENDAR