BEGIN:VCALENDAR
VERSION:2.0
PRODID:-//Rotary Club of Medina - ECPv6.15.18//NONSGML v1.0//EN
CALSCALE:GREGORIAN
METHOD:PUBLISH
X-WR-CALNAME:Rotary Club of Medina
X-ORIGINAL-URL:https://www.medinarotary.org
X-WR-CALDESC:Events for Rotary Club of Medina
REFRESH-INTERVAL;VALUE=DURATION:PT1H
X-Robots-Tag:noindex
X-PUBLISHED-TTL:PT1H
BEGIN:VTIMEZONE
TZID:UTC
BEGIN:STANDARD
TZOFFSETFROM:+0000
TZOFFSETTO:+0000
TZNAME:UTC
DTSTART:20210101T000000
END:STANDARD
END:VTIMEZONE
BEGIN:VEVENT
DTSTART;TZID=UTC:20220423T080000
DTEND;TZID=UTC:20220423T090000
DTSTAMP:20260419T175049
CREATED:20220428T192338Z
LAST-MODIFIED:20220428T192338Z
UID:1064-1650700800-1650704400@www.medinarotary.org
SUMMARY:Canal Cleanup
DESCRIPTION:
URL:https://www.medinarotary.org/event/canal-cleanup-2/
LOCATION:Marshal Road Bridge\, Marshal Rd.\, Medina\, NY\, 14103\, United States
CATEGORIES:Community Project
ATTACH;FMTTYPE=image/jpeg:https://www.medinarotary.org/wp-content/uploads/2022/04/22020423-Group1-s.jpg
ORGANIZER;CN="Rotary Club of Medina":MAILTO:medinanyrotary@gmail.com
END:VEVENT
END:VCALENDAR