BEGIN:VCALENDAR
VERSION:2.0
PRODID:-//Rotary Club of Medina - ECPv6.15.18//NONSGML v1.0//EN
CALSCALE:GREGORIAN
METHOD:PUBLISH
X-ORIGINAL-URL:https://www.medinarotary.org
X-WR-CALDESC:Events for Rotary Club of Medina
REFRESH-INTERVAL;VALUE=DURATION:PT1H
X-Robots-Tag:noindex
X-PUBLISHED-TTL:PT1H
BEGIN:VTIMEZONE
TZID:UTC
BEGIN:STANDARD
TZOFFSETFROM:+0000
TZOFFSETTO:+0000
TZNAME:UTC
DTSTART:20210101T000000
END:STANDARD
END:VTIMEZONE
BEGIN:VEVENT
DTSTART;TZID=UTC:20220504T121000
DTEND;TZID=UTC:20220504T130000
DTSTAMP:20260419T162210
CREATED:20220428T193531Z
LAST-MODIFIED:20220428T193531Z
UID:1413-1651666200-1651669200@www.medinarotary.org
SUMMARY:Special Rotary Meeting
DESCRIPTION:This special meeting is solely to discuss and establish the procedure for the Rotary scholarship.
URL:https://www.medinarotary.org/event/special-rotary-meeting/
LOCATION:Shelridge Country Club\, 10994 Telegraph Rd.\, 14103
CATEGORIES:Club Meeting
ATTACH;FMTTYPE=image/png:https://www.medinarotary.org/wp-content/uploads/2022/04/ScholarshipClipArt01.png
ORGANIZER;CN="Rotary Club of Medina":MAILTO:medinanyrotary@gmail.com
END:VEVENT
BEGIN:VEVENT
DTSTART;TZID=UTC:20220521T110000
DTEND;TZID=UTC:20220521T130000
DTSTAMP:20260419T162210
CREATED:20220428T194521Z
LAST-MODIFIED:20220428T200126Z
UID:1416-1653130800-1653138000@www.medinarotary.org
SUMMARY:Annual Chicken & Rib Dinner
DESCRIPTION:A complete dinner with BOTH chicken and ribs\, along with side dishes and cookies!\nHelp Rotary continue to help the community. \nPurchase Tickets
URL:https://www.medinarotary.org/event/annual-chicken-rib-dinner/
LOCATION:Medina Lanes\, 11249 Maple Ridge Rd.\, Medina\, NY\, 14103\, United States
CATEGORIES:Fundraiser
ATTACH;FMTTYPE=image/png:https://www.medinarotary.org/wp-content/uploads/2021/03/chicken-ribs-pic-2020-e1618604393694.png
ORGANIZER;CN="Rotary Club of Medina":MAILTO:medinanyrotary@gmail.com
END:VEVENT
END:VCALENDAR